BEGIN:VCALENDAR
VERSION:2.0
PRODID:-//Ayuntamiento de Orihuela - ECPv6.15.12.2//NONSGML v1.0//EN
CALSCALE:GREGORIAN
METHOD:PUBLISH
X-ORIGINAL-URL:https://www.orihuela.es
X-WR-CALDESC:Eventos para Ayuntamiento de Orihuela
REFRESH-INTERVAL;VALUE=DURATION:PT1H
X-Robots-Tag:noindex
X-PUBLISHED-TTL:PT1H
BEGIN:VTIMEZONE
TZID:Europe/Madrid
BEGIN:DAYLIGHT
TZOFFSETFROM:+0100
TZOFFSETTO:+0200
TZNAME:CEST
DTSTART:20230326T010000
END:DAYLIGHT
BEGIN:STANDARD
TZOFFSETFROM:+0200
TZOFFSETTO:+0100
TZNAME:CET
DTSTART:20231029T010000
END:STANDARD
BEGIN:DAYLIGHT
TZOFFSETFROM:+0100
TZOFFSETTO:+0200
TZNAME:CEST
DTSTART:20240331T010000
END:DAYLIGHT
BEGIN:STANDARD
TZOFFSETFROM:+0200
TZOFFSETTO:+0100
TZNAME:CET
DTSTART:20241027T010000
END:STANDARD
BEGIN:DAYLIGHT
TZOFFSETFROM:+0100
TZOFFSETTO:+0200
TZNAME:CEST
DTSTART:20250330T010000
END:DAYLIGHT
BEGIN:STANDARD
TZOFFSETFROM:+0200
TZOFFSETTO:+0100
TZNAME:CET
DTSTART:20251026T010000
END:STANDARD
END:VTIMEZONE
BEGIN:VEVENT
DTSTART;TZID=Europe/Madrid:20240501T070000
DTEND;TZID=Europe/Madrid:20240529T160000
DTSTAMP:20260424T021633
CREATED:20240506T144444Z
LAST-MODIFIED:20240530T061439Z
UID:81864-1714546800-1716998400@www.orihuela.es
SUMMARY:Rutas turísticas guiadas de mayo\, organizadas por la Concejalía de Turismo
DESCRIPTION:La Concejalía de Turismo del Ayuntamiento de Orihuela organiza entre el viernes 3 y el miércoles 29 de mayo variadas actividades turísticas\, rutas\, visitas y talleres que están caracterizadas por ofrecer curiosidades del Teatro Circo ‘Atanasio Die’\, por estar dedicadas al poeta Miguel Hernández\, por desarrollarse en la costa y por ser diferentes en pedanías. \nLas rutas para cualquier tipo de público y todos los gustos tienen las plazas limitadas por lo que es necesario reservar en la página web de la Concejalía de Turismo. \n  \nINSCRIPCIÓN: RESERVAS DE LA PÁGINA WEB DE LA CONCEJALÍA DE TURISMO DE ORIHUELA \nMás información:  \nContacto: 673 83 63 85 (También WhatsApp)/ 966 07 61 00 ext 3042 \nPágina web de Orihuela turística.
URL:https://www.orihuela.es/evento/rutas-turisticas-guiadas-de-mayo-organizadas-por-la-concejalia-de-turismo/
LOCATION:Orihuela
CATEGORIES:RUTAS AL AIRE LIBRE
ATTACH;FMTTYPE=image/jpeg:https://www.orihuela.es/wp-content/uploads/2024/05/rutasTuristicasVisitasTalleresOrihuela3al29mayo.jpg
END:VEVENT
BEGIN:VEVENT
DTSTART;TZID=Europe/Madrid:20240507T090000
DTEND;TZID=Europe/Madrid:20240530T180000
DTSTAMP:20260424T021633
CREATED:20240507T095057Z
LAST-MODIFIED:20240530T095821Z
UID:82043-1715072400-1717092000@www.orihuela.es
SUMMARY:Exposición ‘Primavera en casa’\, dentro de los actos de la ‘Primavera Hernandiana’
DESCRIPTION:LOCALIZACIÓN: CASA NATAL MIGUEL HERNÁNDEZ DE ORIHUELA (CALLE SAN JUAN)\n\nLa exposición titulada ‘Primavera en casa’ se podrá visitar hasta el jueves 20 de junio\, de martes a sábado\, de 10 a 14 horas y de 16 a 19 horas\, y los domingos y festivos\, de 10 a 14 horas\, en la Casa Natal Miguel Hernández (calle San Juan). \nLa muestra forma parte de la programación cultural de la llamada Primavera Hernandiana en homenaje al poeta oriolano Miguel Hernández en el 82º aniversario de su muerte\, el 28 de marzo. \nEstá organizado por la Concejalía de Cultura.
URL:https://www.orihuela.es/evento/exposicion-primavera-en-casa-dentro-de-los-actos-de-la-primavera-hernandiana/
LOCATION:Casa Natal de Miguel Hernández
CATEGORIES:Exposición
ATTACH;FMTTYPE=image/jpeg:https://www.orihuela.es/wp-content/uploads/2024/05/miguel-hernandez-100.jpg
END:VEVENT
END:VCALENDAR