BEGIN:VCALENDAR
VERSION:2.0
PRODID:-//Ayuntamiento de Orihuela - ECPv6.15.12.2//NONSGML v1.0//EN
CALSCALE:GREGORIAN
METHOD:PUBLISH
X-WR-CALNAME:Ayuntamiento de Orihuela
X-ORIGINAL-URL:https://www.orihuela.es
X-WR-CALDESC:Eventos para Ayuntamiento de Orihuela
REFRESH-INTERVAL;VALUE=DURATION:PT1H
X-Robots-Tag:noindex
X-PUBLISHED-TTL:PT1H
BEGIN:VTIMEZONE
TZID:Europe/Madrid
BEGIN:DAYLIGHT
TZOFFSETFROM:+0100
TZOFFSETTO:+0200
TZNAME:CEST
DTSTART:20230326T010000
END:DAYLIGHT
BEGIN:STANDARD
TZOFFSETFROM:+0200
TZOFFSETTO:+0100
TZNAME:CET
DTSTART:20231029T010000
END:STANDARD
BEGIN:DAYLIGHT
TZOFFSETFROM:+0100
TZOFFSETTO:+0200
TZNAME:CEST
DTSTART:20240331T010000
END:DAYLIGHT
BEGIN:STANDARD
TZOFFSETFROM:+0200
TZOFFSETTO:+0100
TZNAME:CET
DTSTART:20241027T010000
END:STANDARD
BEGIN:DAYLIGHT
TZOFFSETFROM:+0100
TZOFFSETTO:+0200
TZNAME:CEST
DTSTART:20250330T010000
END:DAYLIGHT
BEGIN:STANDARD
TZOFFSETFROM:+0200
TZOFFSETTO:+0100
TZNAME:CET
DTSTART:20251026T010000
END:STANDARD
END:VTIMEZONE
BEGIN:VEVENT
DTSTART;TZID=Europe/Madrid:20240901T090000
DTEND;TZID=Europe/Madrid:20240930T190000
DTSTAMP:20260423T202939
CREATED:20240830T073318Z
LAST-MODIFIED:20240830T073526Z
UID:89745-1725181200-1727722800@www.orihuela.es
SUMMARY:RUTAS TURÍSTICAS SEPTIEMBRE 2024-CONCEJALÍA DE TURISMO
DESCRIPTION:
URL:https://www.orihuela.es/evento/rutas-turisticas-septiembre-2024-concejalia-de-turismo/
CATEGORIES:RUTAS AL AIRE LIBRE
ATTACH;FMTTYPE=image/jpeg:https://www.orihuela.es/wp-content/uploads/2024/08/1080X1350-IG-5.jpg
END:VEVENT
BEGIN:VEVENT
DTSTART;TZID=Europe/Madrid:20240902T090000
DTEND;TZID=Europe/Madrid:20241030T103000
DTSTAMP:20260423T202939
CREATED:20240830T074723Z
LAST-MODIFIED:20240830T074723Z
UID:89748-1725267600-1730284200@www.orihuela.es
SUMMARY:CLASES DE YOGA EN EL PALMERAL - CONCEJALÍA DE JUVENTUD
DESCRIPTION:
URL:https://www.orihuela.es/evento/clases-de-yoga-en-el-palmeral-concejalia-de-juventud/
CATEGORIES:Eventos,Talleres
ATTACH;FMTTYPE=image/png:https://www.orihuela.es/wp-content/uploads/2024/08/Cartel-clases-de-Yoga-Juventud-1.png
END:VEVENT
BEGIN:VEVENT
DTSTART;TZID=Europe/Madrid:20240907T100000
DTEND;TZID=Europe/Madrid:20240929T190000
DTSTAMP:20260423T202939
CREATED:20240905T073809Z
LAST-MODIFIED:20240905T074801Z
UID:89794-1725703200-1727636400@www.orihuela.es
SUMMARY:TALLERES Y TEATRO - CONCEJALÍA DE JUVENTUD
DESCRIPTION:
URL:https://www.orihuela.es/evento/talleres-y-teatro/
CATEGORIES:Eventos
ATTACH;FMTTYPE=image/png:https://www.orihuela.es/wp-content/uploads/2024/09/Cartel-Juventud-Talleres-y-Teatro-1.png
END:VEVENT
BEGIN:VEVENT
DTSTART;VALUE=DATE:20240917
DTEND;VALUE=DATE:20240930
DTSTAMP:20260423T202939
CREATED:20240917T121609Z
LAST-MODIFIED:20240917T121827Z
UID:90039-1726531200-1727654399@www.orihuela.es
SUMMARY:Semana de la Movilidad Sostenible-Concejalía de Medio Ambiente
DESCRIPTION:
URL:https://www.orihuela.es/evento/semana-de-la-movilidad-sostenible-concejalia-de-medio-ambiente/
CATEGORIES:Talleres
ATTACH;FMTTYPE=image/jpeg:https://www.orihuela.es/wp-content/uploads/2024/09/SemanaMovOri_RRSS_1.jpg
END:VEVENT
BEGIN:VEVENT
DTSTART;VALUE=DATE:20240919
DTEND;VALUE=DATE:20240922
DTSTAMP:20260423T202939
CREATED:20240905T123122Z
LAST-MODIFIED:20240905T123122Z
UID:89808-1726704000-1726963199@www.orihuela.es
SUMMARY:X Ruta de la Tapa y Cóctel/Gin-tonic - Concejalía de Turismo
DESCRIPTION:
URL:https://www.orihuela.es/evento/x-ruta-de-la-tapa-y-coctel-gin-tonic-concejalia-de-turismo/
CATEGORIES:Eventos
ATTACH;FMTTYPE=image/png:https://www.orihuela.es/wp-content/uploads/2024/09/Cartel-ruta-tapa-1.png
END:VEVENT
END:VCALENDAR