BEGIN:VCALENDAR
VERSION:2.0
PRODID:-//Ayuntamiento de Orihuela - ECPv6.15.12.2//NONSGML v1.0//EN
CALSCALE:GREGORIAN
METHOD:PUBLISH
X-WR-CALNAME:Ayuntamiento de Orihuela
X-ORIGINAL-URL:https://www.orihuela.es
X-WR-CALDESC:Eventos para Ayuntamiento de Orihuela
REFRESH-INTERVAL;VALUE=DURATION:PT1H
X-Robots-Tag:noindex
X-PUBLISHED-TTL:PT1H
BEGIN:VTIMEZONE
TZID:Europe/Madrid
BEGIN:DAYLIGHT
TZOFFSETFROM:+0100
TZOFFSETTO:+0200
TZNAME:CEST
DTSTART:20230326T010000
END:DAYLIGHT
BEGIN:STANDARD
TZOFFSETFROM:+0200
TZOFFSETTO:+0100
TZNAME:CET
DTSTART:20231029T010000
END:STANDARD
BEGIN:DAYLIGHT
TZOFFSETFROM:+0100
TZOFFSETTO:+0200
TZNAME:CEST
DTSTART:20240331T010000
END:DAYLIGHT
BEGIN:STANDARD
TZOFFSETFROM:+0200
TZOFFSETTO:+0100
TZNAME:CET
DTSTART:20241027T010000
END:STANDARD
BEGIN:DAYLIGHT
TZOFFSETFROM:+0100
TZOFFSETTO:+0200
TZNAME:CEST
DTSTART:20250330T010000
END:DAYLIGHT
BEGIN:STANDARD
TZOFFSETFROM:+0200
TZOFFSETTO:+0100
TZNAME:CET
DTSTART:20251026T010000
END:STANDARD
END:VTIMEZONE
BEGIN:VEVENT
DTSTART;TZID=Europe/Madrid:20240921T080000
DTEND;TZID=Europe/Madrid:20241214T170000
DTSTAMP:20260423T174626
CREATED:20240918T110404Z
LAST-MODIFIED:20240918T110433Z
UID:90093-1726905600-1734195600@www.orihuela.es
SUMMARY:Fórum Municipal de Familia-Concejalía de Familia
DESCRIPTION:*Consulta la programación completa: Programa de desarrollo familiar. \n 
URL:https://www.orihuela.es/evento/forum-municipal-de-familia-concejalia-de-familia/
LOCATION:Biblioteca Maria Moliner
CATEGORIES:Fórum
ATTACH;FMTTYPE=image/png:https://www.orihuela.es/wp-content/uploads/2024/09/1.png
END:VEVENT
BEGIN:VEVENT
DTSTART;VALUE=DATE:20240926
DTEND;VALUE=DATE:20241215
DTSTAMP:20260423T174626
CREATED:20240926T062845Z
LAST-MODIFIED:20240926T064632Z
UID:90258-1727308800-1734220799@www.orihuela.es
SUMMARY:PROGRAMACIÓN OTOÑO HERNANDIANO-CONCEJALÍA DE CULTURA
DESCRIPTION:Consulta la programación completa en este enlace: Diìptico OtonÞo Hernandiano 2024\n\n 
URL:https://www.orihuela.es/evento/programacion-otono-hernandiano-concejalia-de-cultura/
CATEGORIES:Eventos
ATTACH;FMTTYPE=image/png:https://www.orihuela.es/wp-content/uploads/2024/09/Cartel-OtonZo-Hernandiano.png
END:VEVENT
BEGIN:VEVENT
DTSTART;VALUE=DATE:20241028
DTEND;VALUE=DATE:20241213
DTSTAMP:20260423T174626
CREATED:20240916T120437Z
LAST-MODIFIED:20240916T120437Z
UID:89997-1730073600-1734047999@www.orihuela.es
SUMMARY:FORMACIÓN DESEMPLEADOS - CONCEJALÍA DE FOMENTO DE EMPLEO - AEDL ORIHUELA
DESCRIPTION:
URL:https://www.orihuela.es/evento/formacion-desempleados-concejalia-de-fomento-de-empleo-aedl-orihuela/
ATTACH;FMTTYPE=image/jpeg:https://www.orihuela.es/wp-content/uploads/2024/09/CARTEL-Formacion-AEDL_RRSS.jpg
END:VEVENT
BEGIN:VEVENT
DTSTART;VALUE=DATE:20241114
DTEND;VALUE=DATE:20241216
DTSTAMP:20260423T174626
CREATED:20241114T094222Z
LAST-MODIFIED:20241114T094311Z
UID:91042-1731542400-1734307199@www.orihuela.es
SUMMARY:CERTAMEN TIK TOK-ORIHUELA POR LA IGUALDAD
DESCRIPTION:
URL:https://www.orihuela.es/evento/certamen-tik-tok-orihuela-por-la-igualdad/
ATTACH;FMTTYPE=image/jpeg:https://www.orihuela.es/wp-content/uploads/2024/11/Cartel-Orihuela-por-la-Igualdad-2024-scaled.jpg
END:VEVENT
END:VCALENDAR