BEGIN:VCALENDAR
VERSION:2.0
PRODID:-//Ayuntamiento de Orihuela - ECPv6.15.12.2//NONSGML v1.0//EN
CALSCALE:GREGORIAN
METHOD:PUBLISH
X-WR-CALNAME:Ayuntamiento de Orihuela
X-ORIGINAL-URL:https://www.orihuela.es
X-WR-CALDESC:Eventos para Ayuntamiento de Orihuela
REFRESH-INTERVAL;VALUE=DURATION:PT1H
X-Robots-Tag:noindex
X-PUBLISHED-TTL:PT1H
BEGIN:VTIMEZONE
TZID:Europe/Madrid
BEGIN:DAYLIGHT
TZOFFSETFROM:+0100
TZOFFSETTO:+0200
TZNAME:CEST
DTSTART:20240331T010000
END:DAYLIGHT
BEGIN:STANDARD
TZOFFSETFROM:+0200
TZOFFSETTO:+0100
TZNAME:CET
DTSTART:20241027T010000
END:STANDARD
BEGIN:DAYLIGHT
TZOFFSETFROM:+0100
TZOFFSETTO:+0200
TZNAME:CEST
DTSTART:20250330T010000
END:DAYLIGHT
BEGIN:STANDARD
TZOFFSETFROM:+0200
TZOFFSETTO:+0100
TZNAME:CET
DTSTART:20251026T010000
END:STANDARD
BEGIN:DAYLIGHT
TZOFFSETFROM:+0100
TZOFFSETTO:+0200
TZNAME:CEST
DTSTART:20260329T010000
END:DAYLIGHT
BEGIN:STANDARD
TZOFFSETFROM:+0200
TZOFFSETTO:+0100
TZNAME:CET
DTSTART:20261025T010000
END:STANDARD
END:VTIMEZONE
BEGIN:VEVENT
DTSTART;VALUE=DATE:20250409
DTEND;VALUE=DATE:20250426
DTSTAMP:20260423T111418
CREATED:20250409T100428Z
LAST-MODIFIED:20250409T103826Z
UID:93336-1744156800-1745625599@www.orihuela.es
SUMMARY:ESCUELA DE NATURALEZA- CONCEJALÍA DE MEDIO AMBIENTE
DESCRIPTION:
URL:https://www.orihuela.es/evento/escuela-de-naturaleza-concejalia-de-medio-ambiente/
CATEGORIES:Talleres
ATTACH;FMTTYPE=image/jpeg:https://www.orihuela.es/wp-content/uploads/2025/04/Escuela-de-naturaleza_page-0001-scaled.jpg
END:VEVENT
BEGIN:VEVENT
DTSTART;TZID=Europe/Madrid:20250425T180000
DTEND;TZID=Europe/Madrid:20250425T200000
DTSTAMP:20260423T111418
CREATED:20250422T083305Z
LAST-MODIFIED:20250422T085051Z
UID:93581-1745604000-1745611200@www.orihuela.es
SUMMARY:CONFERENCIA DÍA AUTISMO A CARGO DE LA DRA. ABIGAIL HUERTAS: “Autismo a lo largo de la vida. Retos y necesidades en cada etapa”
DESCRIPTION:Conferencia de la psiquiatra Abigail Huertas\, con motivo de la conmemoración del Día Internacional de la Concienciación sobre el Autismo el próximo viernes 25 de abril a las 18.00h\, en el Auditorio de La Lonja y estará centrada en “Autismo a lo largo de la vida. Retos y necesidades en cada etapa”.
URL:https://www.orihuela.es/evento/conferencia-dia-autismo-a-cardo-de-la-dra-abigail-huertas-autismo-a-lo-largo-de-la-vida-retos-y-necesidades-en-cada-etapa/
CATEGORIES:Eventos
ATTACH;FMTTYPE=image/jpeg:https://www.orihuela.es/wp-content/uploads/2025/04/Poster-Autismo-2025_page-0001-1-scaled.jpg
END:VEVENT
END:VCALENDAR