BEGIN:VCALENDAR
VERSION:2.0
PRODID:-//Ayuntamiento de Orihuela - ECPv6.15.12.2//NONSGML v1.0//EN
CALSCALE:GREGORIAN
METHOD:PUBLISH
X-WR-CALNAME:Ayuntamiento de Orihuela
X-ORIGINAL-URL:https://www.orihuela.es
X-WR-CALDESC:Eventos para Ayuntamiento de Orihuela
REFRESH-INTERVAL;VALUE=DURATION:PT1H
X-Robots-Tag:noindex
X-PUBLISHED-TTL:PT1H
BEGIN:VTIMEZONE
TZID:Europe/Madrid
BEGIN:DAYLIGHT
TZOFFSETFROM:+0100
TZOFFSETTO:+0200
TZNAME:CEST
DTSTART:20240331T010000
END:DAYLIGHT
BEGIN:STANDARD
TZOFFSETFROM:+0200
TZOFFSETTO:+0100
TZNAME:CET
DTSTART:20241027T010000
END:STANDARD
BEGIN:DAYLIGHT
TZOFFSETFROM:+0100
TZOFFSETTO:+0200
TZNAME:CEST
DTSTART:20250330T010000
END:DAYLIGHT
BEGIN:STANDARD
TZOFFSETFROM:+0200
TZOFFSETTO:+0100
TZNAME:CET
DTSTART:20251026T010000
END:STANDARD
BEGIN:DAYLIGHT
TZOFFSETFROM:+0100
TZOFFSETTO:+0200
TZNAME:CEST
DTSTART:20260329T010000
END:DAYLIGHT
BEGIN:STANDARD
TZOFFSETFROM:+0200
TZOFFSETTO:+0100
TZNAME:CET
DTSTART:20261025T010000
END:STANDARD
END:VTIMEZONE
BEGIN:VEVENT
DTSTART;TZID=Europe/Madrid:20250426T100000
DTEND;TZID=Europe/Madrid:20250427T100000
DTSTAMP:20260423T113934
CREATED:20250326T123245Z
LAST-MODIFIED:20250326T123245Z
UID:93142-1745661600-1745748000@www.orihuela.es
SUMMARY:Primera edición de la prueba deportiva solidaria IRON DREAMS – Inclusión\, Tolerancia y Respeto
DESCRIPTION:
URL:https://www.orihuela.es/evento/primera-edicion-de-la-prueba-deportiva-solidaria-iron-dreams-inclusion-tolerancia-y-respeto/
LOCATION:Palmeral
CATEGORIES:Eventos
ATTACH;FMTTYPE=image/jpeg:https://www.orihuela.es/wp-content/uploads/2025/03/CARTEL-IRON-DREAMS.jpeg
END:VEVENT
END:VCALENDAR