BEGIN:VCALENDAR
VERSION:2.0
PRODID:-//Ayuntamiento de Orihuela - ECPv6.15.12.2//NONSGML v1.0//EN
CALSCALE:GREGORIAN
METHOD:PUBLISH
X-WR-CALNAME:Ayuntamiento de Orihuela
X-ORIGINAL-URL:https://www.orihuela.es
X-WR-CALDESC:Eventos para Ayuntamiento de Orihuela
REFRESH-INTERVAL;VALUE=DURATION:PT1H
X-Robots-Tag:noindex
X-PUBLISHED-TTL:PT1H
BEGIN:VTIMEZONE
TZID:Europe/Madrid
BEGIN:DAYLIGHT
TZOFFSETFROM:+0100
TZOFFSETTO:+0200
TZNAME:CEST
DTSTART:20240331T010000
END:DAYLIGHT
BEGIN:STANDARD
TZOFFSETFROM:+0200
TZOFFSETTO:+0100
TZNAME:CET
DTSTART:20241027T010000
END:STANDARD
BEGIN:DAYLIGHT
TZOFFSETFROM:+0100
TZOFFSETTO:+0200
TZNAME:CEST
DTSTART:20250330T010000
END:DAYLIGHT
BEGIN:STANDARD
TZOFFSETFROM:+0200
TZOFFSETTO:+0100
TZNAME:CET
DTSTART:20251026T010000
END:STANDARD
BEGIN:DAYLIGHT
TZOFFSETFROM:+0100
TZOFFSETTO:+0200
TZNAME:CEST
DTSTART:20260329T010000
END:DAYLIGHT
BEGIN:STANDARD
TZOFFSETFROM:+0200
TZOFFSETTO:+0100
TZNAME:CET
DTSTART:20261025T010000
END:STANDARD
END:VTIMEZONE
BEGIN:VEVENT
DTSTART;VALUE=DATE:20251025
DTEND;VALUE=DATE:20251231
DTSTAMP:20260421T154221
CREATED:20251020T102020Z
LAST-MODIFIED:20251020T102020Z
UID:95295-1761350400-1767139199@www.orihuela.es
SUMMARY:ExplorArte
DESCRIPTION:
URL:https://www.orihuela.es/evento/explorarte/
CATEGORIES:Eventos,JORNADAS
ATTACH;FMTTYPE=image/jpeg:https://www.orihuela.es/wp-content/uploads/2025/10/Explorarte-cartel-Redes-scaled.jpg
END:VEVENT
BEGIN:VEVENT
DTSTART;TZID=Europe/Madrid:20251028T080000
DTEND;TZID=Europe/Madrid:20251130T170000
DTSTAMP:20260421T154221
CREATED:20251028T114524Z
LAST-MODIFIED:20251030T093104Z
UID:95330-1761638400-1764522000@www.orihuela.es
SUMMARY:Dulces conventuales\, historia y poesía: las rutas turísticas de noviembre en Orihuela
DESCRIPTION:
URL:https://www.orihuela.es/evento/dulces-conventuales-historia-y-poesia-las-rutas-turisticas-de-noviembre-en-orihuela/
CATEGORIES:RUTAS AL AIRE LIBRE
ATTACH;FMTTYPE=image/jpeg:https://www.orihuela.es/wp-content/uploads/2025/10/1080x1350-1.jpg
END:VEVENT
BEGIN:VEVENT
DTSTART;TZID=Europe/Madrid:20251104T080000
DTEND;TZID=Europe/Madrid:20251130T233000
DTSTAMP:20260421T154221
CREATED:20251104T124051Z
LAST-MODIFIED:20251107T080818Z
UID:95406-1762243200-1764545400@www.orihuela.es
SUMMARY:Juventud Orihuela presenta un ciclo de espectáculos de magia e hipnosis en noviembre
DESCRIPTION:
URL:https://www.orihuela.es/evento/juventud-orihuela-presenta-un-ciclo-de-espectaculos-de-magia-e-hipnosis-en-noviembre/
CATEGORIES:Eventos
ATTACH;FMTTYPE=image/jpeg:https://www.orihuela.es/wp-content/uploads/2025/11/ASTYARO-ORIHUELA-scaled.jpg
END:VEVENT
BEGIN:VEVENT
DTSTART;TZID=Europe/Madrid:20251118T080000
DTEND;TZID=Europe/Madrid:20251231T170000
DTSTAMP:20260421T154221
CREATED:20251118T123143Z
LAST-MODIFIED:20251118T123143Z
UID:95531-1763452800-1767200400@www.orihuela.es
SUMMARY:Turismo lanza rutas navideñas para conocer Orihuela en diciembre
DESCRIPTION:
URL:https://www.orihuela.es/evento/turismo-lanza-rutas-navidenas-para-conocer-orihuela-en-diciembre/
CATEGORIES:RUTAS AL AIRE LIBRE
ATTACH;FMTTYPE=image/jpeg:https://www.orihuela.es/wp-content/uploads/2025/11/cartel-rutas-diciembre.jpg
END:VEVENT
BEGIN:VEVENT
DTSTART;TZID=Europe/Madrid:20251122T080000
DTEND;TZID=Europe/Madrid:20251227T170000
DTSTAMP:20260421T154221
CREATED:20251113T115619Z
LAST-MODIFIED:20251113T115619Z
UID:95481-1763798400-1766854800@www.orihuela.es
SUMMARY:Escape room 'La Fábrica de Chocolate'
DESCRIPTION:
URL:https://www.orihuela.es/evento/escape-room-la-fabrica-de-chocolate/
ATTACH;FMTTYPE=image/png:https://www.orihuela.es/wp-content/uploads/2025/11/CARTELESCAPEROOMFABRICADECHOCOLATE.png
END:VEVENT
BEGIN:VEVENT
DTSTART;TZID=Europe/Madrid:20251125T080000
DTEND;TZID=Europe/Madrid:20251127T230000
DTSTAMP:20260421T154221
CREATED:20251125T120155Z
LAST-MODIFIED:20251125T120155Z
UID:95574-1764057600-1764284400@www.orihuela.es
SUMMARY:Cultura organiza un encuentro con el escritor Juan Gómez-Jurado el próximo 27 de noviembre en La Lonja
DESCRIPTION:
URL:https://www.orihuela.es/evento/cultura-organiza-un-encuentro-con-el-escritor-juan-gomez-jurado-el-proximo-27-de-noviembre-en-la-lonja/
CATEGORIES:Eventos
ATTACH;FMTTYPE=image/jpeg:https://www.orihuela.es/wp-content/uploads/2025/11/cartelJuanGoemezJuradoCultura-scaled.jpg
END:VEVENT
BEGIN:VEVENT
DTSTART;TZID=Europe/Madrid:20251125T080000
DTEND;TZID=Europe/Madrid:20251129T233000
DTSTAMP:20260421T154221
CREATED:20251125T133026Z
LAST-MODIFIED:20251125T133026Z
UID:95588-1764057600-1764459000@www.orihuela.es
SUMMARY:Orihuela acogerá las I Jornadas de Inclusión los días 28 y 29 de noviembre en La Lonja bajo el lema ‘Redescubriendo capacidades: tejiendo redes en la comunidad educativa’
DESCRIPTION:
URL:https://www.orihuela.es/evento/orihuela-acogera-las-i-jornadas-de-inclusion-los-dias-28-y-29-de-noviembre-en-la-lonja-bajo-el-lema-redescubriendo-capacidades-tejiendo-redes-en-la-comunidad-educativa/
CATEGORIES:JORNADAS
ATTACH;FMTTYPE=image/jpeg:https://www.orihuela.es/wp-content/uploads/2025/11/Jornadas-de-Inclusion-.jpg
END:VEVENT
BEGIN:VEVENT
DTSTART;TZID=Europe/Madrid:20251125T080000
DTEND;TZID=Europe/Madrid:20251205T230000
DTSTAMP:20260421T154221
CREATED:20251125T133636Z
LAST-MODIFIED:20251125T133636Z
UID:95594-1764057600-1764975600@www.orihuela.es
SUMMARY:Arranca la Navidad en Orihuela con el encendido de luces
DESCRIPTION:
URL:https://www.orihuela.es/evento/arranca-la-navidad-en-orihuela-con-el-encendido-de-luces/
CATEGORIES:Eventos
ATTACH;FMTTYPE=image/jpeg:https://www.orihuela.es/wp-content/uploads/2025/11/Encendido-de-luces.jpg
END:VEVENT
BEGIN:VEVENT
DTSTART;TZID=Europe/Madrid:20251126T080000
DTEND;TZID=Europe/Madrid:20251130T230000
DTSTAMP:20260421T154221
CREATED:20251126T123057Z
LAST-MODIFIED:20251126T123057Z
UID:95611-1764144000-1764543600@www.orihuela.es
SUMMARY:La Concejalía de Familia organiza una jornada de deporte inclusivo el próximo 30 de noviembre
DESCRIPTION:
URL:https://www.orihuela.es/evento/la-concejalia-de-familia-organiza-una-jornada-de-deporte-inclusivo-el-proximo-30-de-noviembre/
CATEGORIES:Eventos
ATTACH;FMTTYPE=image/png:https://www.orihuela.es/wp-content/uploads/2025/11/cartel-discapacidad.png
END:VEVENT
END:VCALENDAR