BEGIN:VCALENDAR
VERSION:2.0
PRODID:-//Ayuntamiento de Orihuela - ECPv6.15.12.2//NONSGML v1.0//EN
CALSCALE:GREGORIAN
METHOD:PUBLISH
X-ORIGINAL-URL:https://www.orihuela.es
X-WR-CALDESC:Eventos para Ayuntamiento de Orihuela
REFRESH-INTERVAL;VALUE=DURATION:PT1H
X-Robots-Tag:noindex
X-PUBLISHED-TTL:PT1H
BEGIN:VTIMEZONE
TZID:Europe/Madrid
BEGIN:DAYLIGHT
TZOFFSETFROM:+0100
TZOFFSETTO:+0200
TZNAME:CEST
DTSTART:20240331T010000
END:DAYLIGHT
BEGIN:STANDARD
TZOFFSETFROM:+0200
TZOFFSETTO:+0100
TZNAME:CET
DTSTART:20241027T010000
END:STANDARD
BEGIN:DAYLIGHT
TZOFFSETFROM:+0100
TZOFFSETTO:+0200
TZNAME:CEST
DTSTART:20250330T010000
END:DAYLIGHT
BEGIN:STANDARD
TZOFFSETFROM:+0200
TZOFFSETTO:+0100
TZNAME:CET
DTSTART:20251026T010000
END:STANDARD
BEGIN:DAYLIGHT
TZOFFSETFROM:+0100
TZOFFSETTO:+0200
TZNAME:CEST
DTSTART:20260329T010000
END:DAYLIGHT
BEGIN:STANDARD
TZOFFSETFROM:+0200
TZOFFSETTO:+0100
TZNAME:CET
DTSTART:20261025T010000
END:STANDARD
BEGIN:DAYLIGHT
TZOFFSETFROM:+0100
TZOFFSETTO:+0200
TZNAME:CEST
DTSTART:20270328T010000
END:DAYLIGHT
BEGIN:STANDARD
TZOFFSETFROM:+0200
TZOFFSETTO:+0100
TZNAME:CET
DTSTART:20271031T010000
END:STANDARD
END:VTIMEZONE
BEGIN:VEVENT
DTSTART;VALUE=DATE:20251025
DTEND;VALUE=DATE:20251231
DTSTAMP:20260421T142922
CREATED:20251020T102020Z
LAST-MODIFIED:20251020T102020Z
UID:95295-1761350400-1767139199@www.orihuela.es
SUMMARY:ExplorArte
DESCRIPTION:
URL:https://www.orihuela.es/evento/explorarte/
CATEGORIES:Eventos,JORNADAS
ATTACH;FMTTYPE=image/jpeg:https://www.orihuela.es/wp-content/uploads/2025/10/Explorarte-cartel-Redes-scaled.jpg
END:VEVENT
BEGIN:VEVENT
DTSTART;TZID=Europe/Madrid:20251118T080000
DTEND;TZID=Europe/Madrid:20251231T170000
DTSTAMP:20260421T142922
CREATED:20251118T123143Z
LAST-MODIFIED:20251118T123143Z
UID:95531-1763452800-1767200400@www.orihuela.es
SUMMARY:Turismo lanza rutas navideñas para conocer Orihuela en diciembre
DESCRIPTION:
URL:https://www.orihuela.es/evento/turismo-lanza-rutas-navidenas-para-conocer-orihuela-en-diciembre/
CATEGORIES:RUTAS AL AIRE LIBRE
ATTACH;FMTTYPE=image/jpeg:https://www.orihuela.es/wp-content/uploads/2025/11/cartel-rutas-diciembre.jpg
END:VEVENT
BEGIN:VEVENT
DTSTART;TZID=Europe/Madrid:20251122T080000
DTEND;TZID=Europe/Madrid:20251227T170000
DTSTAMP:20260421T142922
CREATED:20251113T115619Z
LAST-MODIFIED:20251113T115619Z
UID:95481-1763798400-1766854800@www.orihuela.es
SUMMARY:Escape room 'La Fábrica de Chocolate'
DESCRIPTION:
URL:https://www.orihuela.es/evento/escape-room-la-fabrica-de-chocolate/
ATTACH;FMTTYPE=image/png:https://www.orihuela.es/wp-content/uploads/2025/11/CARTELESCAPEROOMFABRICADECHOCOLATE.png
END:VEVENT
BEGIN:VEVENT
DTSTART;TZID=Europe/Madrid:20251212T100000
DTEND;TZID=Europe/Madrid:20260106T210000
DTSTAMP:20260421T142922
CREATED:20251215T164029Z
LAST-MODIFIED:20251215T164029Z
UID:95823-1765533600-1767733200@www.orihuela.es
SUMMARY:Belén Municipal
DESCRIPTION:
URL:https://www.orihuela.es/evento/belen-municipal-2/
ATTACH;FMTTYPE=image/png:https://www.orihuela.es/wp-content/uploads/2025/12/AAFF_BELEN-MUNICIPAL_REDES_WEB-1.png
END:VEVENT
BEGIN:VEVENT
DTSTART;TZID=Europe/Madrid:20251215T080000
DTEND;TZID=Europe/Madrid:20251231T230000
DTSTAMP:20260421T142922
CREATED:20251215T110935Z
LAST-MODIFIED:20251215T110936Z
UID:95807-1765785600-1767222000@www.orihuela.es
SUMMARY:Talleres creativos en pedanías
DESCRIPTION:
URL:https://www.orihuela.es/evento/talleres-creativos-en-pedanias/
CATEGORIES:Eventos
ATTACH;FMTTYPE=image/png:https://www.orihuela.es/wp-content/uploads/2025/12/cartel-talleres-pedaniias-en-navidad.png
END:VEVENT
BEGIN:VEVENT
DTSTART;TZID=Europe/Madrid:20251216T080000
DTEND;TZID=Europe/Madrid:20251228T170000
DTSTAMP:20260421T142922
CREATED:20251216T132020Z
LAST-MODIFIED:20251216T132020Z
UID:95841-1765872000-1766941200@www.orihuela.es
SUMMARY:Navidad en pedanías
DESCRIPTION:
URL:https://www.orihuela.es/evento/navidad-en-pedanias/
CATEGORIES:Conciertos,Eventos
ATTACH;FMTTYPE=image/jpeg:https://www.orihuela.es/wp-content/uploads/2025/12/WhatsApp-Image-2025-12-16-at-14.01.01.jpeg
END:VEVENT
BEGIN:VEVENT
DTSTART;TZID=Europe/Madrid:20251218T080000
DTEND;TZID=Europe/Madrid:20260101T183000
DTSTAMP:20260421T142922
CREATED:20251218T130805Z
LAST-MODIFIED:20251218T130813Z
UID:95890-1766044800-1767292200@www.orihuela.es
SUMMARY:Conciertos Navideños 2025
DESCRIPTION:
URL:https://www.orihuela.es/evento/conciertos-navidenos-2025/
CATEGORIES:Conciertos
ATTACH;FMTTYPE=image/png:https://www.orihuela.es/wp-content/uploads/2025/12/cartelconciertos-navidad.png
END:VEVENT
BEGIN:VEVENT
DTSTART;TZID=Europe/Madrid:20251218T080000
DTEND;TZID=Europe/Madrid:20260104T210000
DTSTAMP:20260421T142922
CREATED:20251218T125925Z
LAST-MODIFIED:20251218T125925Z
UID:95884-1766044800-1767560400@www.orihuela.es
SUMMARY:Juve 2026
DESCRIPTION:
URL:https://www.orihuela.es/evento/juve-2026/
CATEGORIES:Eventos
ATTACH;FMTTYPE=image/png:https://www.orihuela.es/wp-content/uploads/2025/12/Juve.png
END:VEVENT
BEGIN:VEVENT
DTSTART;TZID=Europe/Madrid:20251219T080000
DTEND;TZID=Europe/Madrid:20251228T170000
DTSTAMP:20260421T142922
CREATED:20251216T122833Z
LAST-MODIFIED:20251216T122833Z
UID:95832-1766131200-1766941200@www.orihuela.es
SUMMARY:Actividades de Concejalía de Comercio en Navidad
DESCRIPTION:
URL:https://www.orihuela.es/evento/actividades-de-concejalia-de-comercio-en-navidad/
CATEGORIES:Eventos
ATTACH;FMTTYPE=image/jpeg:https://www.orihuela.es/wp-content/uploads/2025/12/Programacion-comercial-Navidad-2025.jpeg
END:VEVENT
BEGIN:VEVENT
DTSTART;TZID=Europe/Madrid:20251221T080000
DTEND;TZID=Europe/Madrid:20260201T170000
DTSTAMP:20260421T142922
CREATED:20251217T112207Z
LAST-MODIFIED:20251217T112207Z
UID:95856-1766304000-1769965200@www.orihuela.es
SUMMARY:Rutas Turísticas Enero
DESCRIPTION:
URL:https://www.orihuela.es/evento/rutas-turisticas-enero-2/
CATEGORIES:RUTAS AL AIRE LIBRE
ATTACH;FMTTYPE=image/jpeg:https://www.orihuela.es/wp-content/uploads/2025/12/cartel-rutas-enero.jpg
END:VEVENT
END:VCALENDAR