BEGIN:VCALENDAR
VERSION:2.0
PRODID:-//Ayuntamiento de Orihuela - ECPv6.15.12.2//NONSGML v1.0//EN
CALSCALE:GREGORIAN
METHOD:PUBLISH
X-WR-CALNAME:Ayuntamiento de Orihuela
X-ORIGINAL-URL:https://www.orihuela.es
X-WR-CALDESC:Eventos para Ayuntamiento de Orihuela
REFRESH-INTERVAL;VALUE=DURATION:PT1H
X-Robots-Tag:noindex
X-PUBLISHED-TTL:PT1H
BEGIN:VTIMEZONE
TZID:Europe/Madrid
BEGIN:DAYLIGHT
TZOFFSETFROM:+0100
TZOFFSETTO:+0200
TZNAME:CEST
DTSTART:20230326T010000
END:DAYLIGHT
BEGIN:STANDARD
TZOFFSETFROM:+0200
TZOFFSETTO:+0100
TZNAME:CET
DTSTART:20231029T010000
END:STANDARD
BEGIN:DAYLIGHT
TZOFFSETFROM:+0100
TZOFFSETTO:+0200
TZNAME:CEST
DTSTART:20240331T010000
END:DAYLIGHT
BEGIN:STANDARD
TZOFFSETFROM:+0200
TZOFFSETTO:+0100
TZNAME:CET
DTSTART:20241027T010000
END:STANDARD
BEGIN:DAYLIGHT
TZOFFSETFROM:+0100
TZOFFSETTO:+0200
TZNAME:CEST
DTSTART:20250330T010000
END:DAYLIGHT
BEGIN:STANDARD
TZOFFSETFROM:+0200
TZOFFSETTO:+0100
TZNAME:CET
DTSTART:20251026T010000
END:STANDARD
END:VTIMEZONE
BEGIN:VEVENT
DTSTART;TZID=Europe/Madrid:20240507T090000
DTEND;TZID=Europe/Madrid:20240530T180000
DTSTAMP:20260424T021744
CREATED:20240507T095057Z
LAST-MODIFIED:20240530T095821Z
UID:82043-1715072400-1717092000@www.orihuela.es
SUMMARY:Exposición ‘Primavera en casa’\, dentro de los actos de la ‘Primavera Hernandiana’
DESCRIPTION:LOCALIZACIÓN: CASA NATAL MIGUEL HERNÁNDEZ DE ORIHUELA (CALLE SAN JUAN)\n\nLa exposición titulada ‘Primavera en casa’ se podrá visitar hasta el jueves 20 de junio\, de martes a sábado\, de 10 a 14 horas y de 16 a 19 horas\, y los domingos y festivos\, de 10 a 14 horas\, en la Casa Natal Miguel Hernández (calle San Juan). \nLa muestra forma parte de la programación cultural de la llamada Primavera Hernandiana en homenaje al poeta oriolano Miguel Hernández en el 82º aniversario de su muerte\, el 28 de marzo. \nEstá organizado por la Concejalía de Cultura.
URL:https://www.orihuela.es/evento/exposicion-primavera-en-casa-dentro-de-los-actos-de-la-primavera-hernandiana/
LOCATION:Casa Natal de Miguel Hernández
CATEGORIES:Exposición
ATTACH;FMTTYPE=image/jpeg:https://www.orihuela.es/wp-content/uploads/2024/05/miguel-hernandez-100.jpg
END:VEVENT
BEGIN:VEVENT
DTSTART;TZID=Europe/Madrid:20240531T230000
DTEND;TZID=Europe/Madrid:20240629T230000
DTSTAMP:20260424T021744
CREATED:20240529T093451Z
LAST-MODIFIED:20240530T071132Z
UID:88597-1717196400-1719702000@www.orihuela.es
SUMMARY:Rutas turísticas guiadas de junio\, organizadas por la Concejalía de Turismo
DESCRIPTION:La Concejalía de Turismo del Ayuntamiento de Orihuela organiza para el mes de junio actividades que se celebran por primera vez. Se conmemoran días como el Día Mundial de Tejer en Público\, y se ofrecen talleres que incluyen la creación de cremas solares\, y rutas sobre leyendas de dragones y aniversarios. \nLas rutas para cualquier tipo de público y todos los gustos tienen las plazas limitadas por lo que es necesario reservar en la página web de la Concejalía de Turismo. \n  \nINSCRIPCIÓN: RESERVAS DE LA PÁGINA WEB DE LA CONCEJALÍA DE TURISMO DE ORIHUELA \nMás información:  \nContacto: 673 83 63 85 (También WhatsApp)/ 966 07 61 00 ext 3042 \nPágina web de Orihuela turística.
URL:https://www.orihuela.es/evento/rutas-turisticas-guiadas-de-junio-organizadas-por-la-concejalia-de-turismo/
CATEGORIES:RUTAS AL AIRE LIBRE
ATTACH;FMTTYPE=image/jpeg:https://www.orihuela.es/wp-content/uploads/2024/05/1080x1080-ig-1.jpg
END:VEVENT
BEGIN:VEVENT
DTSTART;TZID=Europe/Madrid:20240605T080000
DTEND;TZID=Europe/Madrid:20240605T150000
DTSTAMP:20260424T021744
CREATED:20240605T120618Z
LAST-MODIFIED:20240605T120721Z
UID:88889-1717574400-1717599600@www.orihuela.es
SUMMARY:Día Mundial del Medio Ambiente
DESCRIPTION:Jornada dirigida a escolares de Orihuela para conmemorar el Día Mundial del Medio Ambiente. \n  \nTalleres\, música\, teatro y muchas sorpresas en el Palmeral de Orihuela.
URL:https://www.orihuela.es/evento/dia-mundial-del-medio-ambiente/
LOCATION:Palmeral
CATEGORIES:Eventos
ATTACH;FMTTYPE=image/jpeg:https://www.orihuela.es/wp-content/uploads/2024/06/Cartel-Medio-Ambiente.jpg
END:VEVENT
BEGIN:VEVENT
DTSTART;TZID=Europe/Madrid:20240607T213000
DTEND;TZID=Europe/Madrid:20240607T213000
DTSTAMP:20260424T021744
CREATED:20240605T073003Z
LAST-MODIFIED:20240605T110402Z
UID:88871-1717795800-1717795800@www.orihuela.es
SUMMARY:Concierto a la luz de las velas
DESCRIPTION:Música de hoy con instrumentos clásicos\nBiblioteca María Moliner \nEn un entorno cuidadosamente iluminado por más de 3000 velas\, los asistentes podrán disfrutar de un viaje musical que abarca desde éxitos pop hasta melodías clásicas reinterpretadas con música clásica por Germán Moya (oboe)\, Antonio Pujol (trompa) y Juan José Teruel (piano). \nEntrada gratuita hasta completar aforo.
URL:https://www.orihuela.es/evento/musica-de-hoy-con-instrumentos-clasicos/
LOCATION:Biblioteca Maria Moliner
CATEGORIES:Eventos
ATTACH;FMTTYPE=image/png:https://www.orihuela.es/wp-content/uploads/2024/06/Cartel_concierto-velas.png
END:VEVENT
BEGIN:VEVENT
DTSTART;TZID=Europe/Madrid:20240608T103000
DTEND;TZID=Europe/Madrid:20240608T133000
DTSTAMP:20260424T021744
CREATED:20240603T062021Z
LAST-MODIFIED:20240603T062137Z
UID:88824-1717842600-1717853400@www.orihuela.es
SUMMARY:Día Mundial de Tejer en Público
DESCRIPTION:Durante esta jornada\, las asociadas estarán tejiendo en vivo\, brindando la oportunidad al público de observar y aprender sobre este arte tradicional. Además habrá otros entretenimientos con música\, desayunos\, diversas sorpresas y un ambiente festivo.
URL:https://www.orihuela.es/evento/dia-mundial-de-tejer-en-publico/
LOCATION:Plaza del Carmen\, Plaza del Carmen\, Orihuela\, España
CATEGORIES:Eventos
ATTACH;FMTTYPE=image/jpeg:https://www.orihuela.es/wp-content/uploads/2024/05/Cartel-actividad-tejer.jpeg
END:VEVENT
BEGIN:VEVENT
DTSTART;TZID=Europe/Madrid:20240609T090000
DTEND;TZID=Europe/Madrid:20240609T200000
DTSTAMP:20260424T021744
CREATED:20240530T071047Z
LAST-MODIFIED:20240603T105412Z
UID:88727-1717923600-1717963200@www.orihuela.es
SUMMARY:Elecciones europeas 2024
DESCRIPTION:La identificación del elector se hará únicamente con el original\, con fotografía\, de uno de estos documentos: \n\nDocumento Nacional de Identidad (DNI).\nPasaporte (con fotografía).\nPermiso (carné) de conducir (con fotografía). Válido también mediante la aplicación miDGT.\nTarjeta de residencia\, en el caso de ciudadanos y ciudadanas de la Unión Europea que la posean.\n\nPuedes consultar el Censo para conocer dónde debes votar aquí. \n  \nMás información: Estadística.
URL:https://www.orihuela.es/evento/elecciones-europeas-2024/
CATEGORIES:Eventos
ATTACH;FMTTYPE=image/jpeg:https://www.orihuela.es/wp-content/uploads/2024/05/Logo-Elecciones-europeas.jpg
END:VEVENT
BEGIN:VEVENT
DTSTART;TZID=Europe/Madrid:20240612T190000
DTEND;TZID=Europe/Madrid:20240612T190000
DTSTAMP:20260424T021744
CREATED:20240607T111720Z
LAST-MODIFIED:20240607T113301Z
UID:88920-1718218800-1718218800@www.orihuela.es
SUMMARY:Coloquio de Vanessa Montfort
DESCRIPTION:“La hermandad de las malas hijas” \nSe trata de una actividad distendida y cercana para charlar con la escritora cuya entrada será gratuita hasta completar aforo. \n  \nEnlace a la noticia
URL:https://www.orihuela.es/evento/coloquio-vanessa-montfort/
LOCATION:Hotel Tudemir
CATEGORIES:Eventos
ATTACH;FMTTYPE=image/jpeg:https://www.orihuela.es/wp-content/uploads/2024/06/Vanessa-Montfort-Coloquio.jpeg
END:VEVENT
BEGIN:VEVENT
DTSTART;TZID=Europe/Madrid:20240614T180000
DTEND;TZID=Europe/Madrid:20240614T180000
DTSTAMP:20260424T021744
CREATED:20240607T112422Z
LAST-MODIFIED:20240607T113219Z
UID:88928-1718388000-1718388000@www.orihuela.es
SUMMARY:Mar\, Música e Igualdad
DESCRIPTION:De 18:00 a 20:30 horas – Talleres Infantiles de sensibilización y un taller de baile urbano “Break Dance” entre otros. \nSe continuará con Concierto de Carolina Reymundo que deleitará interpretando canciones que promueven la igualdad entre mujeres y hombres\, así como la prevención de violencias machistas. \n  \nEnlace a la Noticia
URL:https://www.orihuela.es/evento/mar-musica-e-igualdad/
LOCATION:Explanada Playa Flamenca
CATEGORIES:Eventos
ATTACH;FMTTYPE=image/jpeg:https://www.orihuela.es/wp-content/uploads/2024/06/Mar-musica-e-igualdad.jpg
END:VEVENT
BEGIN:VEVENT
DTSTART;TZID=Europe/Madrid:20240617T080000
DTEND;TZID=Europe/Madrid:20240731T170000
DTSTAMP:20260424T021744
CREATED:20240617T102946Z
LAST-MODIFIED:20240617T103129Z
UID:89039-1718611200-1722445200@www.orihuela.es
SUMMARY:Rutas turísticas guiadas de julio\, organizadas por la Concejalía de Turismo
DESCRIPTION:Descubre las rutas turísticas programadas para el mes de julio por la Concejalía de Turismo del Ayuntamiento de Orihuela. \nPara más información\, visita el sitio web www.orihuelaturistica.es o contacta vía WhatsApp al 673 836 385. \n  \n  \n 
URL:https://www.orihuela.es/evento/89039/
LOCATION:Orihuela
CATEGORIES:Eventos,RUTAS AL AIRE LIBRE
ATTACH;FMTTYPE=image/jpeg:https://www.orihuela.es/wp-content/uploads/2024/06/1080x1080.jpg
END:VEVENT
BEGIN:VEVENT
DTSTART;TZID=Europe/Madrid:20240703T213000
DTEND;TZID=Europe/Madrid:20240828T230000
DTSTAMP:20260424T021744
CREATED:20240703T072246Z
LAST-MODIFIED:20240703T072650Z
UID:89237-1720042200-1724886000@www.orihuela.es
SUMMARY:Conciertos bajo las estrellas-Julio y agosto
DESCRIPTION:
URL:https://www.orihuela.es/evento/conciertos-bajo-las-estrellas-julio-y-agosto/
LOCATION:Biblioteca Maria Moliner
CATEGORIES:Conciertos
ATTACH;FMTTYPE=image/png:https://www.orihuela.es/wp-content/uploads/2024/07/carteles-conciertos-bajo-las-estrellas-verano-2024-8.pdf.png
END:VEVENT
BEGIN:VEVENT
DTSTART;TZID=Europe/Madrid:20240704T080000
DTEND;TZID=Europe/Madrid:20240822T170000
DTSTAMP:20260424T021744
CREATED:20240703T072949Z
LAST-MODIFIED:20240703T072949Z
UID:89243-1720080000-1724346000@www.orihuela.es
SUMMARY:Verano 2024-Orihuela Costa
DESCRIPTION:
URL:https://www.orihuela.es/evento/verano-2024-orihuela-costa/
CATEGORIES:Conciertos,RUTAS AL AIRE LIBRE,Talleres
ATTACH;FMTTYPE=image/jpeg:https://www.orihuela.es/wp-content/uploads/2024/06/1080x1080-1.jpg
END:VEVENT
BEGIN:VEVENT
DTSTART;TZID=Europe/Madrid:20240707T190000
DTEND;TZID=Europe/Madrid:20240707T210000
DTSTAMP:20260424T021744
CREATED:20240703T072615Z
LAST-MODIFIED:20240703T072615Z
UID:89240-1720378800-1720386000@www.orihuela.es
SUMMARY:HOLA VERANO-Orihuela Costa
DESCRIPTION:
URL:https://www.orihuela.es/evento/hola-verano-orihuela-costa/
LOCATION:Explanada Playa Flamenca
CATEGORIES:Conciertos,Talleres
ATTACH;FMTTYPE=image/png:https://www.orihuela.es/wp-content/uploads/2024/06/cartel-Hola-Veranoo.png
END:VEVENT
BEGIN:VEVENT
DTSTART;TZID=Europe/Madrid:20240724T080000
DTEND;TZID=Europe/Madrid:20240829T170000
DTSTAMP:20260424T021744
CREATED:20240724T104153Z
LAST-MODIFIED:20240724T104153Z
UID:89571-1721808000-1724950800@www.orihuela.es
SUMMARY:Rutas turísticas de agosto-Concejalía de Turismo
DESCRIPTION:Consulta aquí las rutas previstas para el mes de agosto. Más información en www.orihuelaturística.es \n  \n 
URL:https://www.orihuela.es/evento/rutas-turisticas-de-agosto-concejalia-de-turismo/
LOCATION:Orihuela
CATEGORIES:RUTAS AL AIRE LIBRE
ATTACH;FMTTYPE=image/jpeg:https://www.orihuela.es/wp-content/uploads/2024/07/1080x1080-3.jpg
END:VEVENT
BEGIN:VEVENT
DTSTART;VALUE=DATE:20240802
DTEND;VALUE=DATE:20240831
DTSTAMP:20260424T021744
CREATED:20240802T100828Z
LAST-MODIFIED:20240802T100828Z
UID:89607-1722556800-1725062399@www.orihuela.es
SUMMARY:CINE DE VERANO 2024- CONCEJALÍA DE JUVENTUD
DESCRIPTION:  \nConsulta en este enlace la programación del Cine de Verano 2024 que ha organizado la Concejalía de Juventud tanto en el centro de Orihuela\, como en la costa y pedanías. \nCine de Verano programa (1) (1)
URL:https://www.orihuela.es/evento/cine-de-verano-2024-concejalia-de-juventud/
LOCATION:Orihuela
CATEGORIES:Eventos
ATTACH;FMTTYPE=image/png:https://www.orihuela.es/wp-content/uploads/2024/08/Cartel-A3-Geneerico-1.png
END:VEVENT
BEGIN:VEVENT
DTSTART;VALUE=DATE:20240805
DTEND;VALUE=DATE:20240830
DTSTAMP:20260424T021744
CREATED:20240805T122759Z
LAST-MODIFIED:20240807T111241Z
UID:89620-1722816000-1724975999@www.orihuela.es
SUMMARY:SUMMER SPORT- CONCEJALÍA DE JUVENTUD
DESCRIPTION:Consulta la programación de actividades organizadas por la Concejalía de Juventud durante el mes de agosto en Orihuela Costa “Summer Sport” en este enlace: \nSummer Sport Summer Sport Programa (3)
URL:https://www.orihuela.es/evento/89620/
LOCATION:Orihuela Costa
CATEGORIES:Eventos
ATTACH;FMTTYPE=image/png:https://www.orihuela.es/wp-content/uploads/2024/08/Summer-Sport-cartel-A4.png
END:VEVENT
BEGIN:VEVENT
DTSTART;TZID=Europe/Madrid:20240901T090000
DTEND;TZID=Europe/Madrid:20240930T190000
DTSTAMP:20260424T021744
CREATED:20240830T073318Z
LAST-MODIFIED:20240830T073526Z
UID:89745-1725181200-1727722800@www.orihuela.es
SUMMARY:RUTAS TURÍSTICAS SEPTIEMBRE 2024-CONCEJALÍA DE TURISMO
DESCRIPTION:
URL:https://www.orihuela.es/evento/rutas-turisticas-septiembre-2024-concejalia-de-turismo/
CATEGORIES:RUTAS AL AIRE LIBRE
ATTACH;FMTTYPE=image/jpeg:https://www.orihuela.es/wp-content/uploads/2024/08/1080X1350-IG-5.jpg
END:VEVENT
BEGIN:VEVENT
DTSTART;TZID=Europe/Madrid:20240902T090000
DTEND;TZID=Europe/Madrid:20241030T103000
DTSTAMP:20260424T021744
CREATED:20240830T074723Z
LAST-MODIFIED:20240830T074723Z
UID:89748-1725267600-1730284200@www.orihuela.es
SUMMARY:CLASES DE YOGA EN EL PALMERAL - CONCEJALÍA DE JUVENTUD
DESCRIPTION:
URL:https://www.orihuela.es/evento/clases-de-yoga-en-el-palmeral-concejalia-de-juventud/
CATEGORIES:Eventos,Talleres
ATTACH;FMTTYPE=image/png:https://www.orihuela.es/wp-content/uploads/2024/08/Cartel-clases-de-Yoga-Juventud-1.png
END:VEVENT
BEGIN:VEVENT
DTSTART;TZID=Europe/Madrid:20240907T100000
DTEND;TZID=Europe/Madrid:20240929T190000
DTSTAMP:20260424T021744
CREATED:20240905T073809Z
LAST-MODIFIED:20240905T074801Z
UID:89794-1725703200-1727636400@www.orihuela.es
SUMMARY:TALLERES Y TEATRO - CONCEJALÍA DE JUVENTUD
DESCRIPTION:
URL:https://www.orihuela.es/evento/talleres-y-teatro/
CATEGORIES:Eventos
ATTACH;FMTTYPE=image/png:https://www.orihuela.es/wp-content/uploads/2024/09/Cartel-Juventud-Talleres-y-Teatro-1.png
END:VEVENT
BEGIN:VEVENT
DTSTART;VALUE=DATE:20240917
DTEND;VALUE=DATE:20240930
DTSTAMP:20260424T021744
CREATED:20240917T121609Z
LAST-MODIFIED:20240917T121827Z
UID:90039-1726531200-1727654399@www.orihuela.es
SUMMARY:Semana de la Movilidad Sostenible-Concejalía de Medio Ambiente
DESCRIPTION:
URL:https://www.orihuela.es/evento/semana-de-la-movilidad-sostenible-concejalia-de-medio-ambiente/
CATEGORIES:Talleres
ATTACH;FMTTYPE=image/jpeg:https://www.orihuela.es/wp-content/uploads/2024/09/SemanaMovOri_RRSS_1.jpg
END:VEVENT
BEGIN:VEVENT
DTSTART;VALUE=DATE:20240919
DTEND;VALUE=DATE:20240922
DTSTAMP:20260424T021744
CREATED:20240905T123122Z
LAST-MODIFIED:20240905T123122Z
UID:89808-1726704000-1726963199@www.orihuela.es
SUMMARY:X Ruta de la Tapa y Cóctel/Gin-tonic - Concejalía de Turismo
DESCRIPTION:
URL:https://www.orihuela.es/evento/x-ruta-de-la-tapa-y-coctel-gin-tonic-concejalia-de-turismo/
CATEGORIES:Eventos
ATTACH;FMTTYPE=image/png:https://www.orihuela.es/wp-content/uploads/2024/09/Cartel-ruta-tapa-1.png
END:VEVENT
BEGIN:VEVENT
DTSTART;TZID=Europe/Madrid:20240921T080000
DTEND;TZID=Europe/Madrid:20241214T170000
DTSTAMP:20260424T021744
CREATED:20240918T110404Z
LAST-MODIFIED:20240918T110433Z
UID:90093-1726905600-1734195600@www.orihuela.es
SUMMARY:Fórum Municipal de Familia-Concejalía de Familia
DESCRIPTION:*Consulta la programación completa: Programa de desarrollo familiar. \n 
URL:https://www.orihuela.es/evento/forum-municipal-de-familia-concejalia-de-familia/
LOCATION:Biblioteca Maria Moliner
CATEGORIES:Fórum
ATTACH;FMTTYPE=image/png:https://www.orihuela.es/wp-content/uploads/2024/09/1.png
END:VEVENT
BEGIN:VEVENT
DTSTART;VALUE=DATE:20240926
DTEND;VALUE=DATE:20241215
DTSTAMP:20260424T021744
CREATED:20240926T062845Z
LAST-MODIFIED:20240926T064632Z
UID:90258-1727308800-1734220799@www.orihuela.es
SUMMARY:PROGRAMACIÓN OTOÑO HERNANDIANO-CONCEJALÍA DE CULTURA
DESCRIPTION:Consulta la programación completa en este enlace: Diìptico OtonÞo Hernandiano 2024\n\n 
URL:https://www.orihuela.es/evento/programacion-otono-hernandiano-concejalia-de-cultura/
CATEGORIES:Eventos
ATTACH;FMTTYPE=image/png:https://www.orihuela.es/wp-content/uploads/2024/09/Cartel-OtonZo-Hernandiano.png
END:VEVENT
BEGIN:VEVENT
DTSTART;TZID=Europe/Madrid:20240927T080000
DTEND;TZID=Europe/Madrid:20240929T170000
DTSTAMP:20260424T021744
CREATED:20240923T114207Z
LAST-MODIFIED:20240923T114207Z
UID:90175-1727424000-1727629200@www.orihuela.es
SUMMARY:Día Mundial del Turismo-Concejalía de Turismo
DESCRIPTION:
URL:https://www.orihuela.es/evento/dia-mundial-del-turismo-concejalia-de-turismo/
CATEGORIES:Eventos
ATTACH;FMTTYPE=image/jpeg:https://www.orihuela.es/wp-content/uploads/2024/09/1080x1080-2.jpg
END:VEVENT
BEGIN:VEVENT
DTSTART;TZID=Europe/Madrid:20240930T080000
DTEND;TZID=Europe/Madrid:20240930T170000
DTSTAMP:20260424T021744
CREATED:20240930T084500Z
LAST-MODIFIED:20240930T084500Z
UID:90313-1727683200-1727715600@www.orihuela.es
SUMMARY:PROGRAMACIÓN TEATRO CIRCO (SEPTIEMBRE-ENERO)
DESCRIPTION: Consulta aquí toda la programación: Programación Teatro Circo
URL:https://www.orihuela.es/evento/programacion-teatro-circo-septiembre-enero/
CATEGORIES:Eventos
ATTACH;FMTTYPE=image/jpeg:https://www.orihuela.es/wp-content/uploads/2024/09/TEATROCIRCO.27DESEP-11-scaled.jpg
END:VEVENT
BEGIN:VEVENT
DTSTART;VALUE=DATE:20241003
DTEND;VALUE=DATE:20241101
DTSTAMP:20260424T021744
CREATED:20240924T121308Z
LAST-MODIFIED:20240924T121440Z
UID:90219-1727913600-1730419199@www.orihuela.es
SUMMARY:Taller de Maternidad-Concejalía de Familia
DESCRIPTION:Consulta la programación completa en este enlace: Programación Taller de Maternidad
URL:https://www.orihuela.es/evento/taller-de-maternidad-concejalia-de-familia/
LOCATION:Biblioteca Maria Moliner
CATEGORIES:Talleres
ATTACH;FMTTYPE=image/jpeg:https://www.orihuela.es/wp-content/uploads/2024/09/Cartel-Maternidad-01-AF-1-scaled.jpg
END:VEVENT
BEGIN:VEVENT
DTSTART;VALUE=DATE:20241015
DTEND;VALUE=DATE:20241016
DTSTAMP:20260424T021744
CREATED:20241010T111829Z
LAST-MODIFIED:20241010T111910Z
UID:90482-1728950400-1729036799@www.orihuela.es
SUMMARY:II JORNADAS DEL DÍA INTERNACIONAL DEL DUELO PERINATAL Y NEONATAL-CONCEJALÍA DE SANIDAD
DESCRIPTION:
URL:https://www.orihuela.es/evento/ii-jornadas-del-dia-internacional-del-duelo-perinatal-y-neonatal-concejalia-de-sanidad/
ATTACH;FMTTYPE=image/jpeg:https://www.orihuela.es/wp-content/uploads/2024/10/Cartel-Jornadas.jpeg
END:VEVENT
BEGIN:VEVENT
DTSTART;VALUE=DATE:20241028
DTEND;VALUE=DATE:20241213
DTSTAMP:20260424T021744
CREATED:20240916T120437Z
LAST-MODIFIED:20240916T120437Z
UID:89997-1730073600-1734047999@www.orihuela.es
SUMMARY:FORMACIÓN DESEMPLEADOS - CONCEJALÍA DE FOMENTO DE EMPLEO - AEDL ORIHUELA
DESCRIPTION:
URL:https://www.orihuela.es/evento/formacion-desempleados-concejalia-de-fomento-de-empleo-aedl-orihuela/
ATTACH;FMTTYPE=image/jpeg:https://www.orihuela.es/wp-content/uploads/2024/09/CARTEL-Formacion-AEDL_RRSS.jpg
END:VEVENT
BEGIN:VEVENT
DTSTART;VALUE=DATE:20241114
DTEND;VALUE=DATE:20241216
DTSTAMP:20260424T021744
CREATED:20241114T094222Z
LAST-MODIFIED:20241114T094311Z
UID:91042-1731542400-1734307199@www.orihuela.es
SUMMARY:CERTAMEN TIK TOK-ORIHUELA POR LA IGUALDAD
DESCRIPTION:
URL:https://www.orihuela.es/evento/certamen-tik-tok-orihuela-por-la-igualdad/
ATTACH;FMTTYPE=image/jpeg:https://www.orihuela.es/wp-content/uploads/2024/11/Cartel-Orihuela-por-la-Igualdad-2024-scaled.jpg
END:VEVENT
BEGIN:VEVENT
DTSTART;VALUE=DATE:20241118
DTEND;VALUE=DATE:20241130
DTSTAMP:20260424T021744
CREATED:20241118T103213Z
LAST-MODIFIED:20241118T103332Z
UID:91096-1731888000-1732924799@www.orihuela.es
SUMMARY:PROGRAMACIÓN DÍA INTERNACIONAL PARA LA ELIMINACIÓN DE LA VIOLENCIA CONTRA LA MUJER-IGUALDAD
DESCRIPTION:
URL:https://www.orihuela.es/evento/programacion-dia-internacional-para-la-eliminacion-de-la-violencia-contra-la-mujer-igualdad/
CATEGORIES:Eventos
ATTACH;FMTTYPE=image/jpeg:https://www.orihuela.es/wp-content/uploads/2024/11/Actividades-prevencion-1_page-0001-scaled.jpg
END:VEVENT
BEGIN:VEVENT
DTSTART;TZID=Europe/Madrid:20241128T090000
DTEND;TZID=Europe/Madrid:20241128T190000
DTSTAMP:20260424T021744
CREATED:20241119T130139Z
LAST-MODIFIED:20241119T130139Z
UID:91193-1732784400-1732820400@www.orihuela.es
SUMMARY:I Jornadas de Absentismo Escolar de Orihuela
DESCRIPTION:
URL:https://www.orihuela.es/evento/i-jornadas-de-absentismo-escolar-de-orihuela/
ATTACH;FMTTYPE=image/jpeg:https://www.orihuela.es/wp-content/uploads/2024/11/Jornada-absentismo.jpg
END:VEVENT
END:VCALENDAR