BEGIN:VCALENDAR
VERSION:2.0
PRODID:-//Ayuntamiento de Orihuela - ECPv6.15.12.2//NONSGML v1.0//EN
CALSCALE:GREGORIAN
METHOD:PUBLISH
X-WR-CALNAME:Ayuntamiento de Orihuela
X-ORIGINAL-URL:https://www.orihuela.es
X-WR-CALDESC:Eventos para Ayuntamiento de Orihuela
REFRESH-INTERVAL;VALUE=DURATION:PT1H
X-Robots-Tag:noindex
X-PUBLISHED-TTL:PT1H
BEGIN:VTIMEZONE
TZID:Europe/Madrid
BEGIN:DAYLIGHT
TZOFFSETFROM:+0100
TZOFFSETTO:+0200
TZNAME:CEST
DTSTART:20240331T010000
END:DAYLIGHT
BEGIN:STANDARD
TZOFFSETFROM:+0200
TZOFFSETTO:+0100
TZNAME:CET
DTSTART:20241027T010000
END:STANDARD
BEGIN:DAYLIGHT
TZOFFSETFROM:+0100
TZOFFSETTO:+0200
TZNAME:CEST
DTSTART:20250330T010000
END:DAYLIGHT
BEGIN:STANDARD
TZOFFSETFROM:+0200
TZOFFSETTO:+0100
TZNAME:CET
DTSTART:20251026T010000
END:STANDARD
BEGIN:DAYLIGHT
TZOFFSETFROM:+0100
TZOFFSETTO:+0200
TZNAME:CEST
DTSTART:20260329T010000
END:DAYLIGHT
BEGIN:STANDARD
TZOFFSETFROM:+0200
TZOFFSETTO:+0100
TZNAME:CET
DTSTART:20261025T010000
END:STANDARD
END:VTIMEZONE
BEGIN:VEVENT
DTSTART;VALUE=DATE:20250530
DTEND;VALUE=DATE:20250630
DTSTAMP:20260421T214125
CREATED:20250530T125802Z
LAST-MODIFIED:20250530T125802Z
UID:94403-1748563200-1751241599@www.orihuela.es
SUMMARY:'El Prado en la Calle'
DESCRIPTION:
URL:https://www.orihuela.es/evento/el-prado-en-la-calle/
CATEGORIES:Exposición
ATTACH;FMTTYPE=image/jpeg:https://www.orihuela.es/wp-content/uploads/2025/05/Cartel_Orihuela_28_05_compressed-3_page-0001-scaled.jpg
END:VEVENT
BEGIN:VEVENT
DTSTART;VALUE=DATE:20250601
DTEND;VALUE=DATE:20250701
DTSTAMP:20260421T214125
CREATED:20250527T115825Z
LAST-MODIFIED:20250527T115825Z
UID:94358-1748736000-1751327999@www.orihuela.es
SUMMARY:Rutas turísticas de junio
DESCRIPTION:
URL:https://www.orihuela.es/evento/rutas-turisticas-de-junio/
CATEGORIES:RUTAS AL AIRE LIBRE
ATTACH;FMTTYPE=image/jpeg:https://www.orihuela.es/wp-content/uploads/2025/05/1080x1080-1.jpg
END:VEVENT
BEGIN:VEVENT
DTSTART;TZID=Europe/Madrid:20250601T090000
DTEND;TZID=Europe/Madrid:20250601T140000
DTSTAMP:20260421T214125
CREATED:20250520T101230Z
LAST-MODIFIED:20250522T114545Z
UID:94177-1748768400-1748786400@www.orihuela.es
SUMMARY:'Pantallas\, gritos y abrazos'
DESCRIPTION:
URL:https://www.orihuela.es/evento/pantallas-gritos-y-abrazos/
CATEGORIES:Fórum
ATTACH;FMTTYPE=image/png:https://www.orihuela.es/wp-content/uploads/2025/05/pantallas-gritos-abrazos-1.png
END:VEVENT
BEGIN:VEVENT
DTSTART;TZID=Europe/Madrid:20250603T090000
DTEND;TZID=Europe/Madrid:20250627T190000
DTSTAMP:20260421T214125
CREATED:20250604T121932Z
LAST-MODIFIED:20250604T121932Z
UID:94450-1748941200-1751050800@www.orihuela.es
SUMMARY:MIMISMA
DESCRIPTION:
URL:https://www.orihuela.es/evento/mimisma/
CATEGORIES:Exposición
ATTACH;FMTTYPE=image/jpeg:https://www.orihuela.es/wp-content/uploads/2025/06/cartel-mimisma.jpeg
END:VEVENT
BEGIN:VEVENT
DTSTART;TZID=Europe/Madrid:20250607T100000
DTEND;TZID=Europe/Madrid:20250607T170000
DTSTAMP:20260421T214125
CREATED:20250530T103844Z
LAST-MODIFIED:20250530T103844Z
UID:94397-1749290400-1749315600@www.orihuela.es
SUMMARY:Jornada Deportiva LGTBIQ+
DESCRIPTION:
URL:https://www.orihuela.es/evento/jornada-deportiva-lgtbiq/
CATEGORIES:Eventos
ATTACH;FMTTYPE=image/jpeg:https://www.orihuela.es/wp-content/uploads/2025/05/CARTEL-JORNADA-DEPORTIVA-2-1.jpg
END:VEVENT
BEGIN:VEVENT
DTSTART;TZID=Europe/Madrid:20250607T170000
DTEND;TZID=Europe/Madrid:20250607T220000
DTSTAMP:20260421T214125
CREATED:20250526T110913Z
LAST-MODIFIED:20250526T110913Z
UID:94267-1749315600-1749333600@www.orihuela.es
SUMMARY:I Festival Urbano Skate Park
DESCRIPTION:
URL:https://www.orihuela.es/evento/i-festival-urbano-skate-park/
CATEGORIES:Certamen
ATTACH;FMTTYPE=image/png:https://www.orihuela.es/wp-content/uploads/2025/05/cartel-URBAN-ORIHUELA-FESTIVAL-1.png
END:VEVENT
BEGIN:VEVENT
DTSTART;TZID=Europe/Madrid:20250611T090000
DTEND;TZID=Europe/Madrid:20250611T130000
DTSTAMP:20260421T214125
CREATED:20250609T120328Z
LAST-MODIFIED:20250609T120328Z
UID:94485-1749632400-1749646800@www.orihuela.es
SUMMARY:TALLER DE FAMILIAS DIVERSAS
DESCRIPTION:
URL:https://www.orihuela.es/evento/taller-de-familias-diversas/
CATEGORIES:JORNADAS
ATTACH;FMTTYPE=image/jpeg:https://www.orihuela.es/wp-content/uploads/2025/06/Foto-cartel-Bienestar-Social-1.jpeg
END:VEVENT
BEGIN:VEVENT
DTSTART;TZID=Europe/Madrid:20250611T180000
DTEND;TZID=Europe/Madrid:20250611T200000
DTSTAMP:20260421T214125
CREATED:20250605T121813Z
LAST-MODIFIED:20250605T121813Z
UID:94455-1749664800-1749672000@www.orihuela.es
SUMMARY:Jornada Violencia de Género en la era digital
DESCRIPTION:
URL:https://www.orihuela.es/evento/jornada-violencia-de-genero-en-la-era-digital/
CATEGORIES:JORNADAS
ATTACH;FMTTYPE=image/jpeg:https://www.orihuela.es/wp-content/uploads/2025/06/CARTEL-JORNADA-VIOLENCIA.jpeg
END:VEVENT
BEGIN:VEVENT
DTSTART;TZID=Europe/Madrid:20250619T080000
DTEND;TZID=Europe/Madrid:20250619T170000
DTSTAMP:20260421T214125
CREATED:20250619T083012Z
LAST-MODIFIED:20250619T083012Z
UID:94558-1750320000-1750352400@www.orihuela.es
SUMMARY:Homenaje a Miguel Hernández ‘Para la libertad’
DESCRIPTION:
URL:https://www.orihuela.es/evento/homenaje-a-miguel-hernandez-para-la-libertad/
CATEGORIES:Eventos
ATTACH;FMTTYPE=image/jpeg:https://www.orihuela.es/wp-content/uploads/2025/06/Cartel-para-la-libertad-scaled.jpeg
END:VEVENT
BEGIN:VEVENT
DTSTART;TZID=Europe/Madrid:20250620T110000
DTEND;TZID=Europe/Madrid:20250620T130000
DTSTAMP:20260421T214125
CREATED:20250619T072700Z
LAST-MODIFIED:20250619T072700Z
UID:94548-1750417200-1750424400@www.orihuela.es
SUMMARY:I Jornada 'Juntos por el futuro del Palmeral'
DESCRIPTION:
URL:https://www.orihuela.es/evento/i-jornada-juntos-por-el-futuro-del-palmeral/
ATTACH;FMTTYPE=image/jpeg:https://www.orihuela.es/wp-content/uploads/2025/06/Poste-I-Jornada-Juntos-por-el-futuro-del-Palmeral_page-0001-2.jpg
END:VEVENT
BEGIN:VEVENT
DTSTART;VALUE=DATE:20250626
DTEND;VALUE=DATE:20250630
DTSTAMP:20260421T214125
CREATED:20250625T143703Z
LAST-MODIFIED:20250625T143703Z
UID:94581-1750896000-1751241599@www.orihuela.es
SUMMARY:Circuito Nacional de Vóley Playa ‘Revolution1920’
DESCRIPTION:
URL:https://www.orihuela.es/evento/circuito-nacional-de-voley-playa-revolution1920/
CATEGORIES:Eventos
ATTACH;FMTTYPE=image/jpeg:https://www.orihuela.es/wp-content/uploads/2025/06/Cartel-Revolution-1920.jpeg
END:VEVENT
BEGIN:VEVENT
DTSTART;TZID=Europe/Madrid:20250626T193000
DTEND;TZID=Europe/Madrid:20250626T210000
DTSTAMP:20260421T214125
CREATED:20250619T074424Z
LAST-MODIFIED:20250619T074537Z
UID:94550-1750966200-1750971600@www.orihuela.es
SUMMARY:‘Orihuela Incluye 2025’
DESCRIPTION:
URL:https://www.orihuela.es/evento/orihuela-incluye-2025/
ATTACH;FMTTYPE=image/jpeg:https://www.orihuela.es/wp-content/uploads/2025/06/WhatsApp-Image-2025-06-17-at-09.24.49-3.jpeg
END:VEVENT
BEGIN:VEVENT
DTSTART;TZID=Europe/Madrid:20250629T121500
DTEND;TZID=Europe/Madrid:20250629T140000
DTSTAMP:20260421T214125
CREATED:20250626T103050Z
LAST-MODIFIED:20250626T112431Z
UID:94597-1751199300-1751205600@www.orihuela.es
SUMMARY:II Encuentro de Bandas Juveniles
DESCRIPTION:
URL:https://www.orihuela.es/evento/ii-encuentro-de-bandas-juveniles/
ATTACH;FMTTYPE=image/png:https://www.orihuela.es/wp-content/uploads/2025/06/cartelEncuentrodeBandasJuveniles.png
END:VEVENT
BEGIN:VEVENT
DTSTART;VALUE=DATE:20250701
DTEND;VALUE=DATE:20250901
DTSTAMP:20260421T214125
CREATED:20250630T130222Z
LAST-MODIFIED:20250630T130222Z
UID:94633-1751328000-1756684799@www.orihuela.es
SUMMARY:Programa Cultural Verano 2025
DESCRIPTION:
URL:https://www.orihuela.es/evento/programa-cultural-verano-2025/
CATEGORIES:Eventos
ATTACH;FMTTYPE=image/png:https://www.orihuela.es/wp-content/uploads/2025/06/2.png
END:VEVENT
BEGIN:VEVENT
DTSTART;TZID=Europe/Madrid:20250701T080000
DTEND;TZID=Europe/Madrid:20250731T170000
DTSTAMP:20260421T214125
CREATED:20250626T083144Z
LAST-MODIFIED:20250626T083144Z
UID:94588-1751356800-1753981200@www.orihuela.es
SUMMARY:RUTAS TURÍSTICAS DE JULIO
DESCRIPTION:
URL:https://www.orihuela.es/evento/rutas-turisticas-de-julio/
CATEGORIES:RUTAS AL AIRE LIBRE
ATTACH;FMTTYPE=image/png:https://www.orihuela.es/wp-content/uploads/2025/06/Rutas-Orihuela-1080X1920-storie.png
END:VEVENT
BEGIN:VEVENT
DTSTART;TZID=Europe/Madrid:20250707T090000
DTEND;TZID=Europe/Madrid:20250711T140000
DTSTAMP:20260421T214125
CREATED:20250702T114940Z
LAST-MODIFIED:20250702T114940Z
UID:94654-1751878800-1752242400@www.orihuela.es
SUMMARY:Campamento Digital
DESCRIPTION:
URL:https://www.orihuela.es/evento/campamento-digital/
CATEGORIES:Talleres
ATTACH;FMTTYPE=image/png:https://www.orihuela.es/wp-content/uploads/2025/07/campamento-7-11.png
END:VEVENT
BEGIN:VEVENT
DTSTART;TZID=Europe/Madrid:20250717T000000
DTEND;TZID=Europe/Madrid:20250717T010000
DTSTAMP:20260421T214125
CREATED:20250711T164845Z
LAST-MODIFIED:20250711T164845Z
UID:94732-1752710400-1752714000@www.orihuela.es
SUMMARY:EXPOSICIÓN PÚBLICA DE LA GLORIOSA ENSEÑA DEL ORIOL
DESCRIPTION:
URL:https://www.orihuela.es/evento/exposicion-publica-de-la-gloriosa-ensena-del-oriol/
CATEGORIES:Eventos
ATTACH;FMTTYPE=image/jpeg:https://www.orihuela.es/wp-content/uploads/2025/07/WhatsApp-Image-2025-07-11-at-18.44.04-scaled.jpeg
END:VEVENT
BEGIN:VEVENT
DTSTART;TZID=Europe/Madrid:20250717T090000
DTEND;TZID=Europe/Madrid:20250717T130000
DTSTAMP:20260421T214125
CREATED:20250711T165041Z
LAST-MODIFIED:20250711T165041Z
UID:94735-1752742800-1752757200@www.orihuela.es
SUMMARY:TRADICIONAL BAJADA Y TRASLADO DE LA GLORIOSA ENSEÑA DEL ORIOL
DESCRIPTION:
URL:https://www.orihuela.es/evento/tradicional-bajada-y-traslado-de-la-gloriosa-ensena-del-oriol/
CATEGORIES:Eventos
ATTACH;FMTTYPE=image/jpeg:https://www.orihuela.es/wp-content/uploads/2025/07/WhatsApp-Image-2025-07-11-at-18.13.41.jpeg
END:VEVENT
BEGIN:VEVENT
DTSTART;TZID=Europe/Madrid:20250726T220000
DTEND;TZID=Europe/Madrid:20250727T020000
DTSTAMP:20260421T214125
CREATED:20250707T121805Z
LAST-MODIFIED:20250707T192609Z
UID:94699-1753567200-1753581600@www.orihuela.es
SUMMARY:“Survival Zombie” en Orihuela: sábado 26 de julio
DESCRIPTION:
URL:https://www.orihuela.es/evento/survival-zombie-en-orihuela-sabado-26-de-julio/
ATTACH;FMTTYPE=image/jpeg:https://www.orihuela.es/wp-content/uploads/2025/07/cartelSurvivalOrihuelaJulio.jpg
END:VEVENT
BEGIN:VEVENT
DTSTART;TZID=Europe/Madrid:20250730T080000
DTEND;TZID=Europe/Madrid:20250831T170000
DTSTAMP:20260421T214125
CREATED:20250729T115004Z
LAST-MODIFIED:20250729T115004Z
UID:94799-1753862400-1756659600@www.orihuela.es
SUMMARY:Cine Verano 2025
DESCRIPTION:
URL:https://www.orihuela.es/evento/cine-verano-2025/
CATEGORIES:Eventos
ATTACH;FMTTYPE=image/png:https://www.orihuela.es/wp-content/uploads/2025/07/cartelCinedeVerano2025Orihuela.png
END:VEVENT
BEGIN:VEVENT
DTSTART;VALUE=DATE:20250801
DTEND;VALUE=DATE:20250901
DTSTAMP:20260421T214125
CREATED:20250723T100153Z
LAST-MODIFIED:20250723T100153Z
UID:94777-1754006400-1756684799@www.orihuela.es
SUMMARY:Rutas Turísticas agosto
DESCRIPTION:
URL:https://www.orihuela.es/evento/rutas-turisticas-agosto/
CATEGORIES:RUTAS AL AIRE LIBRE
ATTACH;FMTTYPE=image/png:https://www.orihuela.es/wp-content/uploads/2025/07/rutas-agosto-historias.png
END:VEVENT
BEGIN:VEVENT
DTSTART;TZID=Europe/Madrid:20250829T100000
DTEND;TZID=Europe/Madrid:20250829T140000
DTSTAMP:20260421T214125
CREATED:20250818T121443Z
LAST-MODIFIED:20250818T121443Z
UID:94893-1756461600-1756476000@www.orihuela.es
SUMMARY:Fiesta acuática en el Palacio del Agua
DESCRIPTION:
URL:https://www.orihuela.es/evento/fiesta-acuatica-en-el-palacio-del-agua/
ATTACH;FMTTYPE=image/png:https://www.orihuela.es/wp-content/uploads/2025/08/CartelFiestaAcuaiticaFamilia-1.png
END:VEVENT
BEGIN:VEVENT
DTSTART;VALUE=DATE:20250901
DTEND;VALUE=DATE:20251001
DTSTAMP:20260421T214125
CREATED:20250902T112454Z
LAST-MODIFIED:20250902T112454Z
UID:94957-1756684800-1759276799@www.orihuela.es
SUMMARY:Rutas turísticas de septiembre
DESCRIPTION:
URL:https://www.orihuela.es/evento/rutas-turisticas-de-septiembre/
CATEGORIES:Eventos,RUTAS AL AIRE LIBRE
ATTACH;FMTTYPE=image/jpeg:https://www.orihuela.es/wp-content/uploads/2025/09/rutas-sep-turismo.jpg
END:VEVENT
BEGIN:VEVENT
DTSTART;TZID=Europe/Madrid:20250903T080000
DTEND;TZID=Europe/Madrid:20250903T170000
DTSTAMP:20260421T214125
CREATED:20250903T134153Z
LAST-MODIFIED:20250903T134153Z
UID:94967-1756886400-1756918800@www.orihuela.es
SUMMARY:Fiestas en honor a la Virgen de Monserrate
DESCRIPTION:
URL:https://www.orihuela.es/evento/fiestas-en-honor-a-la-virgen-de-monserrate-2/
CATEGORIES:Eventos
ATTACH;FMTTYPE=image/jpeg:https://www.orihuela.es/wp-content/uploads/2025/09/Folleto-Monserrate-2.jpg
END:VEVENT
BEGIN:VEVENT
DTSTART;VALUE=DATE:20250906
DTEND;VALUE=DATE:20250922
DTSTAMP:20260421T214125
CREATED:20250903T134040Z
LAST-MODIFIED:20250903T134041Z
UID:94964-1757116800-1758499199@www.orihuela.es
SUMMARY:Fiestas en honor a la Virgen de Monserrate
DESCRIPTION:
URL:https://www.orihuela.es/evento/fiestas-en-honor-a-la-virgen-de-monserrate/
CATEGORIES:Eventos
ATTACH;FMTTYPE=image/png:https://www.orihuela.es/wp-content/uploads/2025/09/cartelMonserrate2025patronales.png
END:VEVENT
BEGIN:VEVENT
DTSTART;TZID=Europe/Madrid:20250918T163000
DTEND;TZID=Europe/Madrid:20250918T203000
DTSTAMP:20260421T214125
CREATED:20250912T121629Z
LAST-MODIFIED:20250912T121629Z
UID:95028-1758213000-1758227400@www.orihuela.es
SUMMARY:X Jornada de Prevención de Conductas Adictivas de Orihuela
DESCRIPTION:
URL:https://www.orihuela.es/evento/x-jornada-de-prevencion-de-conductas-adictivas-de-orihuela/
CATEGORIES:JORNADAS
ATTACH;FMTTYPE=image/jpeg:https://www.orihuela.es/wp-content/uploads/2025/09/WhatsApp-Image-2025-09-11-at-16.38.34.jpeg
END:VEVENT
BEGIN:VEVENT
DTSTART;TZID=Europe/Madrid:20250919T170000
DTEND;TZID=Europe/Madrid:20250920T233000
DTSTAMP:20260421T214125
CREATED:20250829T153346Z
LAST-MODIFIED:20250829T153346Z
UID:94941-1758301200-1758411000@www.orihuela.es
SUMMARY:TARDEADA ORIHUELA
DESCRIPTION:
URL:https://www.orihuela.es/evento/tardeada-orihuela/
CATEGORIES:Conciertos
ATTACH;FMTTYPE=image/png:https://www.orihuela.es/wp-content/uploads/2025/08/Tardeada-Orihuela_Nombres-artistas_Instagram-Post_artistas-por-confirmar-03-1.png
END:VEVENT
BEGIN:VEVENT
DTSTART;TZID=Europe/Madrid:20250927T210000
DTEND;TZID=Europe/Madrid:20250927T233000
DTSTAMP:20260421T214125
CREATED:20250901T120240Z
LAST-MODIFIED:20250901T120240Z
UID:94947-1759006800-1759015800@www.orihuela.es
SUMMARY:Espectáculo “Indie Sinfónico” el 27 de septiembre en el Teatro Circo
DESCRIPTION:
URL:https://www.orihuela.es/evento/espectaculo-indie-sinfonico-el-27-de-septiembre-en-el-teatro-circo/
CATEGORIES:Conciertos
ATTACH;FMTTYPE=image/png:https://www.orihuela.es/wp-content/uploads/2025/09/cartelIndiesinfonicoOrihuela.png
END:VEVENT
BEGIN:VEVENT
DTSTART;VALUE=DATE:20251001
DTEND;VALUE=DATE:20251101
DTSTAMP:20260421T214125
CREATED:20250926T092627Z
LAST-MODIFIED:20250926T092627Z
UID:95137-1759276800-1761955199@www.orihuela.es
SUMMARY:Rutas turísticas octubre
DESCRIPTION:
URL:https://www.orihuela.es/evento/rutas-turisticas-octubre/
CATEGORIES:RUTAS AL AIRE LIBRE
ATTACH;FMTTYPE=image/jpeg:https://www.orihuela.es/wp-content/uploads/2025/09/portada-1080x1350-1.jpg
END:VEVENT
BEGIN:VEVENT
DTSTART;VALUE=DATE:20251007
DTEND;VALUE=DATE:20251018
DTSTAMP:20260421T214125
CREATED:20251004T063527Z
LAST-MODIFIED:20251004T063527Z
UID:95190-1759795200-1760745599@www.orihuela.es
SUMMARY:Semana de la Arquitectura 2025
DESCRIPTION:
URL:https://www.orihuela.es/evento/semana-de-la-arquitectura-2025/
CATEGORIES:Exposición
ATTACH;FMTTYPE=image/jpeg:https://www.orihuela.es/wp-content/uploads/2025/10/25SA05_1080X1920-scaled.jpg
END:VEVENT
END:VCALENDAR