BEGIN:VCALENDAR
VERSION:2.0
PRODID:-//Ayuntamiento de Orihuela - ECPv6.15.12.2//NONSGML v1.0//EN
CALSCALE:GREGORIAN
METHOD:PUBLISH
X-ORIGINAL-URL:https://www.orihuela.es
X-WR-CALDESC:Eventos para Ayuntamiento de Orihuela
REFRESH-INTERVAL;VALUE=DURATION:PT1H
X-Robots-Tag:noindex
X-PUBLISHED-TTL:PT1H
BEGIN:VTIMEZONE
TZID:Europe/Madrid
BEGIN:DAYLIGHT
TZOFFSETFROM:+0100
TZOFFSETTO:+0200
TZNAME:CEST
DTSTART:20250330T010000
END:DAYLIGHT
BEGIN:STANDARD
TZOFFSETFROM:+0200
TZOFFSETTO:+0100
TZNAME:CET
DTSTART:20251026T010000
END:STANDARD
BEGIN:DAYLIGHT
TZOFFSETFROM:+0100
TZOFFSETTO:+0200
TZNAME:CEST
DTSTART:20260329T010000
END:DAYLIGHT
BEGIN:STANDARD
TZOFFSETFROM:+0200
TZOFFSETTO:+0100
TZNAME:CET
DTSTART:20261025T010000
END:STANDARD
BEGIN:DAYLIGHT
TZOFFSETFROM:+0100
TZOFFSETTO:+0200
TZNAME:CEST
DTSTART:20270328T010000
END:DAYLIGHT
BEGIN:STANDARD
TZOFFSETFROM:+0200
TZOFFSETTO:+0100
TZNAME:CET
DTSTART:20271031T010000
END:STANDARD
END:VTIMEZONE
BEGIN:VEVENT
DTSTART;TZID=Europe/Madrid:20260225T080000
DTEND;TZID=Europe/Madrid:20260413T170000
DTSTAMP:20260420T105049
CREATED:20260225T132925Z
LAST-MODIFIED:20260225T132925Z
UID:96284-1772006400-1776099600@www.orihuela.es
SUMMARY:Igualdad presenta un amplio programa de actividades para conmemorar el Día Internacional de la Mujer
DESCRIPTION:
URL:https://www.orihuela.es/evento/igualdad-presenta-un-amplio-programa-de-actividades-para-conmemorar-el-dia-internacional-de-la-mujer/
CATEGORIES:Eventos
ATTACH;FMTTYPE=image/jpeg:https://www.orihuela.es/wp-content/uploads/2026/02/8M.jpg
END:VEVENT
BEGIN:VEVENT
DTSTART;TZID=Europe/Madrid:20260301T080000
DTEND;TZID=Europe/Madrid:20260331T170000
DTSTAMP:20260420T105049
CREATED:20260219T094831Z
LAST-MODIFIED:20260219T094831Z
UID:96241-1772352000-1774976400@www.orihuela.es
SUMMARY:Rutas de marzo
DESCRIPTION:
URL:https://www.orihuela.es/evento/rutas-de-marzo/
CATEGORIES:RUTAS AL AIRE LIBRE
ATTACH;FMTTYPE=image/jpeg:https://www.orihuela.es/wp-content/uploads/2026/02/rutas-marzo-horizontal-scaled.jpg
END:VEVENT
BEGIN:VEVENT
DTSTART;TZID=Europe/Madrid:20260320T100000
DTEND;TZID=Europe/Madrid:20260430T200000
DTSTAMP:20260420T105049
CREATED:20260318T114133Z
LAST-MODIFIED:20260318T114133Z
UID:96445-1774000800-1777579200@www.orihuela.es
SUMMARY:Exposición de pintura “Semana Santa en Orihuela”\, de Pedrol
DESCRIPTION:
URL:https://www.orihuela.es/evento/exposicion-de-pintura-semana-santa-en-orihuela-de-pedrol/
CATEGORIES:Exposición
ATTACH;FMTTYPE=image/jpeg:https://www.orihuela.es/wp-content/uploads/2026/03/Cartel-exposicion.jpeg
END:VEVENT
BEGIN:VEVENT
DTSTART;TZID=Europe/Madrid:20260412T190000
DTEND;TZID=Europe/Madrid:20260412T210000
DTSTAMP:20260420T105049
CREATED:20260408T120007Z
LAST-MODIFIED:20260408T120007Z
UID:96621-1776020400-1776027600@www.orihuela.es
SUMMARY:Concierto sinfónico ‘Estampas Sinfónicas del Oriol
DESCRIPTION:
URL:https://www.orihuela.es/evento/concierto-sinfonico-estampas-sinfonicas-del-oriol/
CATEGORIES:Conciertos
ATTACH;FMTTYPE=image/jpeg:https://www.orihuela.es/wp-content/uploads/2026/04/concierto-1.jpeg
END:VEVENT
BEGIN:VEVENT
DTSTART;TZID=Europe/Madrid:20260415T080000
DTEND;TZID=Europe/Madrid:20260421T190000
DTSTAMP:20260420T105049
CREATED:20260415T121924Z
LAST-MODIFIED:20260415T121924Z
UID:96654-1776240000-1776798000@www.orihuela.es
SUMMARY:Orihuela acoge el próximo 21 de abril la jornada ‘A-Ball al Poble’ para acercar el fútbol en silla de ruedas y fomentar la inclusión
DESCRIPTION:
URL:https://www.orihuela.es/evento/orihuela-acoge-el-proximo-21-de-abril-la-jornada-a-ball-al-poble-para-acercar-el-futbol-en-silla-de-ruedas-y-fomentar-la-inclusion/
CATEGORIES:Eventos
ATTACH;FMTTYPE=image/jpeg:https://www.orihuela.es/wp-content/uploads/2026/04/A-Ball-al-Poble.jpeg
END:VEVENT
BEGIN:VEVENT
DTSTART;TZID=Europe/Madrid:20260416T193000
DTEND;TZID=Europe/Madrid:20260521T213000
DTSTAMP:20260420T105049
CREATED:20260414T112444Z
LAST-MODIFIED:20260414T112444Z
UID:96648-1776367800-1779399000@www.orihuela.es
SUMMARY:Conciertos de los Jueves
DESCRIPTION:
URL:https://www.orihuela.es/evento/conciertos-de-los-jueves/
CATEGORIES:Conciertos
ATTACH;FMTTYPE=image/jpeg:https://www.orihuela.es/wp-content/uploads/2026/04/cartel-concierto-de-los-jueves.jpeg
END:VEVENT
BEGIN:VEVENT
DTSTART;TZID=Europe/Madrid:20260418T203000
DTEND;TZID=Europe/Madrid:20260418T220000
DTSTAMP:20260420T105049
CREATED:20260410T073357Z
LAST-MODIFIED:20260410T073357Z
UID:96628-1776544200-1776549600@www.orihuela.es
SUMMARY:III Festival Grandes Compositores
DESCRIPTION:
URL:https://www.orihuela.es/evento/iii-festival-grandes-compositores/
CATEGORIES:Conciertos
ATTACH;FMTTYPE=image/jpeg:https://www.orihuela.es/wp-content/uploads/2026/04/Cartel-Festival.jpeg
END:VEVENT
BEGIN:VEVENT
DTSTART;TZID=Europe/Madrid:20260423T170000
DTEND;TZID=Europe/Madrid:20260425T220000
DTSTAMP:20260420T105049
CREATED:20260417T122204Z
LAST-MODIFIED:20260417T122204Z
UID:96698-1776963600-1777154400@www.orihuela.es
SUMMARY:Comercio en Primavera
DESCRIPTION:
URL:https://www.orihuela.es/evento/comercio-en-primavera/
CATEGORIES:Eventos
ATTACH;FMTTYPE=image/jpeg:https://www.orihuela.es/wp-content/uploads/2026/04/WhatsApp-Image-2026-04-17-at-12.40.20.jpeg
END:VEVENT
BEGIN:VEVENT
DTSTART;TZID=Europe/Madrid:20260425T103000
DTEND;TZID=Europe/Madrid:20260425T123000
DTSTAMP:20260420T105049
CREATED:20260417T121747Z
LAST-MODIFIED:20260417T121747Z
UID:96695-1777113000-1777120200@www.orihuela.es
SUMMARY:II Marcha Solidaria contra el Cáncer Infantil
DESCRIPTION:
URL:https://www.orihuela.es/evento/ii-marcha-solidaria-contra-el-cancer-infantil/
CATEGORIES:RUTAS AL AIRE LIBRE
ATTACH;FMTTYPE=image/jpeg:https://www.orihuela.es/wp-content/uploads/2026/04/cartel-marchya-solidaria.jpeg
END:VEVENT
END:VCALENDAR